BEGIN:VCALENDAR
VERSION:2.0
PRODID:-//South Shore Charter School - ECPv6.15.17.1//NONSGML v1.0//EN
CALSCALE:GREGORIAN
METHOD:PUBLISH
X-WR-CALNAME:South Shore Charter School
X-ORIGINAL-URL:https://www.southshorecharterschool.org
X-WR-CALDESC:Events for South Shore Charter School
REFRESH-INTERVAL;VALUE=DURATION:PT1H
X-Robots-Tag:noindex
X-PUBLISHED-TTL:PT1H
BEGIN:VTIMEZONE
TZID:America/New_York
BEGIN:DAYLIGHT
TZOFFSETFROM:-0500
TZOFFSETTO:-0400
TZNAME:EDT
DTSTART:20250309T070000
END:DAYLIGHT
BEGIN:STANDARD
TZOFFSETFROM:-0400
TZOFFSETTO:-0500
TZNAME:EST
DTSTART:20251102T060000
END:STANDARD
BEGIN:DAYLIGHT
TZOFFSETFROM:-0500
TZOFFSETTO:-0400
TZNAME:EDT
DTSTART:20260308T070000
END:DAYLIGHT
BEGIN:STANDARD
TZOFFSETFROM:-0400
TZOFFSETTO:-0500
TZNAME:EST
DTSTART:20261101T060000
END:STANDARD
BEGIN:DAYLIGHT
TZOFFSETFROM:-0500
TZOFFSETTO:-0400
TZNAME:EDT
DTSTART:20270314T070000
END:DAYLIGHT
BEGIN:STANDARD
TZOFFSETFROM:-0400
TZOFFSETTO:-0500
TZNAME:EST
DTSTART:20271107T060000
END:STANDARD
END:VTIMEZONE
BEGIN:VTIMEZONE
TZID:UTC
BEGIN:STANDARD
TZOFFSETFROM:+0000
TZOFFSETTO:+0000
TZNAME:UTC
DTSTART:20250101T000000
END:STANDARD
END:VTIMEZONE
BEGIN:VEVENT
DTSTART;VALUE=DATE:20260325
DTEND;VALUE=DATE:20260326
DTSTAMP:20260421T230725
CREATED:20250711T010305Z
LAST-MODIFIED:20250711T195155Z
UID:3306-1774396800-1774483199@www.southshorecharterschool.org
SUMMARY:Early Release Day - 1PM Dismissal
DESCRIPTION:
URL:https://www.southshorecharterschool.org/event/early-release-day-1pm-dismissal-7/
LOCATION:Campus\, 82 Carleton Ave\, Central Islip\, NY\, 11722\, United States
ORGANIZER;CN="South Shore Charter School":MAILTO:info@southshorecharterschool.org
END:VEVENT
BEGIN:VEVENT
DTSTART;TZID=UTC:20260325T190000
DTEND;TZID=UTC:20260325T200000
DTSTAMP:20260421T230725
CREATED:20251124T213907Z
LAST-MODIFIED:20251124T213907Z
UID:8729-1774465200-1774468800@www.southshorecharterschool.org
SUMMARY:South Shore Charter School Virtual Info Session - 3/25/26
DESCRIPTION:Join us to learn more about why South Shore Charter School should be your school of choice this Fall 2026 for your Kindergartner\, First Grader\, Second Grader\, Third Grader and Fourth Grader. \nhttps://us02web.zoom.us/meeting/register/TeWsTw1mRy2tEsH6pveMTw
URL:https://www.southshorecharterschool.org/event/south-shore-charter-school-virtual-info-session-3-25-26/
ORGANIZER;CN="South Shore Charter School":MAILTO:info@southshorecharterschool.org
END:VEVENT
END:VCALENDAR